BEGIN:VCALENDAR
VERSION:2.0
PRODID:-//Shawbury Parish Council//Meeting Calendar//EN
CALSCALE:GREGORIAN
METHOD:PUBLISH
BEGIN:VEVENT
UID:72774-20260330@shawbury-pc.gov.uk
DTSTAMP:20260420T235617Z
DTSTART;VALUE=DATE:20260330
DTEND;VALUE=DATE:20260331
SUMMARY:Finance Committee 30th March
DESCRIPTION:Finance Committee Meeting\nView details: https://shawbury-pc.gov.uk/meetings/finance-committee/
URL:https://shawbury-pc.gov.uk/meetings/finance-committee/
END:VEVENT
END:VCALENDAR
