BEGIN:VCALENDAR
VERSION:2.0
PRODID:-//Shawbury Parish Council//Meeting Calendar//EN
CALSCALE:GREGORIAN
METHOD:PUBLISH
BEGIN:VEVENT
UID:70823-20260414@shawbury-pc.gov.uk
DTSTAMP:20260420T190603Z
DTSTART;VALUE=DATE:20260414
DTEND;VALUE=DATE:20260415
SUMMARY:Full Council Meeting 14th April 2026
DESCRIPTION:Full Council Meeting\nView details: https://shawbury-pc.gov.uk/meetings/full-council-meeting-april-2026/
URL:https://shawbury-pc.gov.uk/meetings/full-council-meeting-april-2026/
END:VEVENT
END:VCALENDAR
