BEGIN:VCALENDAR
VERSION:2.0
PRODID:-//Shawbury Parish Council//Meeting Calendar//EN
CALSCALE:GREGORIAN
METHOD:PUBLISH
BEGIN:VEVENT
UID:70808-20260114@shawbury-pc.gov.uk
DTSTAMP:20260420T083340Z
DTSTART;VALUE=DATE:20260114
DTEND;VALUE=DATE:20260115
SUMMARY:Full Council: 13th January 2026
DESCRIPTION:Full Council Meeting\nView details: https://shawbury-pc.gov.uk/meetings/full-council-13th-january-2026/
URL:https://shawbury-pc.gov.uk/meetings/full-council-13th-january-2026/
END:VEVENT
END:VCALENDAR
