BEGIN:VCALENDAR
VERSION:2.0
PRODID:-//Shawbury Parish Council//Meeting Calendar//EN
CALSCALE:GREGORIAN
METHOD:PUBLISH
BEGIN:VEVENT
UID:70720-20250812@shawbury-pc.gov.uk
DTSTAMP:20260421T082658Z
DTSTART;VALUE=DATE:20250812
DTEND;VALUE=DATE:20250813
SUMMARY:Council Meeting
DESCRIPTION:Full Council Meeting\nView details: https://shawbury-pc.gov.uk/meetings/council-meeting/
URL:https://shawbury-pc.gov.uk/meetings/council-meeting/
END:VEVENT
END:VCALENDAR
