BEGIN:VCALENDAR
VERSION:2.0
PRODID:-//Shawbury Parish Council//Meeting Calendar//EN
CALSCALE:GREGORIAN
METHOD:PUBLISH
BEGIN:VEVENT
UID:70717-20250610@shawbury-pc.gov.uk
DTSTAMP:20260420T173918Z
DTSTART;VALUE=DATE:20250610
DTEND;VALUE=DATE:20250611
SUMMARY:Council Meeting 10th of June 2025
DESCRIPTION:Full Council Meeting\nView details: https://shawbury-pc.gov.uk/meetings/shawbury-parish-council-meeting/
URL:https://shawbury-pc.gov.uk/meetings/shawbury-parish-council-meeting/
END:VEVENT
END:VCALENDAR
