BEGIN:VCALENDAR
VERSION:2.0
PRODID:-//Shawbury Parish Council//Meeting Calendar//EN
CALSCALE:GREGORIAN
METHOD:PUBLISH
BEGIN:VEVENT
UID:70514-20240109@shawbury-pc.gov.uk
DTSTAMP:20260420T204138Z
DTSTART;VALUE=DATE:20240109
DTEND;VALUE=DATE:20240110
SUMMARY:Council Meeting &#8211\\; 9 January 2024
DESCRIPTION:Full Council Meeting\nView details: https://shawbury-pc.gov.uk/meetings/council-meeting-9-january-2024/
URL:https://shawbury-pc.gov.uk/meetings/council-meeting-9-january-2024/
END:VEVENT
END:VCALENDAR
