BEGIN:VCALENDAR
VERSION:2.0
PRODID:-//Shawbury Parish Council//Meeting Calendar//EN
CALSCALE:GREGORIAN
METHOD:PUBLISH
BEGIN:VEVENT
UID:70498-20240611@shawbury-pc.gov.uk
DTSTAMP:20260421T082742Z
DTSTART;VALUE=DATE:20240611
DTEND;VALUE=DATE:20240612
SUMMARY:Council Meeting &#8211\\; 11 June 2024
DESCRIPTION:Full Council Meeting\nView details: https://shawbury-pc.gov.uk/meetings/council-meeting-11-june-2024/
URL:https://shawbury-pc.gov.uk/meetings/council-meeting-11-june-2024/
END:VEVENT
END:VCALENDAR
