BEGIN:VCALENDAR
VERSION:2.0
PRODID:-//Shawbury Parish Council//Meeting Calendar//EN
CALSCALE:GREGORIAN
METHOD:PUBLISH
BEGIN:VEVENT
UID:70479-20241210@shawbury-pc.gov.uk
DTSTAMP:20260421T082916Z
DTSTART;VALUE=DATE:20241210
DTEND;VALUE=DATE:20241211
SUMMARY:Council Meeting &#8211\\; 10 December 2024
DESCRIPTION:Full Council Meeting\nView details: https://shawbury-pc.gov.uk/meetings/council-meeting-10-december-2024/
URL:https://shawbury-pc.gov.uk/meetings/council-meeting-10-december-2024/
END:VEVENT
END:VCALENDAR
