BEGIN:VCALENDAR
VERSION:2.0
PRODID:-//Shawbury Parish Council//Meeting Calendar//EN
CALSCALE:GREGORIAN
METHOD:PUBLISH
BEGIN:VEVENT
UID:70476-20250114@shawbury-pc.gov.uk
DTSTAMP:20260421T082721Z
DTSTART;VALUE=DATE:20250114
DTEND;VALUE=DATE:20250115
SUMMARY:Council Meeting 14 January 2025
DESCRIPTION:Full Council Meeting\nView details: https://shawbury-pc.gov.uk/meetings/council-meeting-14-january-2025/
URL:https://shawbury-pc.gov.uk/meetings/council-meeting-14-january-2025/
END:VEVENT
END:VCALENDAR
