BEGIN:VCALENDAR
VERSION:2.0
PRODID:-//Shawbury Parish Council//Meeting Calendar//EN
CALSCALE:GREGORIAN
METHOD:PUBLISH
BEGIN:VEVENT
UID:70467-20250408@shawbury-pc.gov.uk
DTSTAMP:20260420T173843Z
DTSTART;VALUE=DATE:20250408
DTEND;VALUE=DATE:20250409
SUMMARY:Council Meeting &#8211\\; 8 April 2025
DESCRIPTION:Full Council Meeting\nView details: https://shawbury-pc.gov.uk/meetings/council-meeting-8-april-2025/
URL:https://shawbury-pc.gov.uk/meetings/council-meeting-8-april-2025/
END:VEVENT
END:VCALENDAR
